Workbook

Sheet Instructions
B1: Training Calendar Instructions
B2: Training Calendar Template - v1.01, Raleigh Running Hub
B4: We hope this training calendar template can help you prepare for your next race! To populate the calendar with the right dates, fill out the header shown below in the Season View tab. (This is just an example.)
B6: Add Runner Name | C6: -> | D6: Name: | F6: [Runner Name]
B7: Add 1st Sunday | C7: -> | D7: Begin Date: | F7: 46026
B8: Race Date and Name | C8: -> | D8: Target Race: | F8: 46095 | G8: Neighorhood 5K
B9: Auto Calculates | C9: -> | D9: # of Weeks: | F9: =ROUNDUP((F8-F7)/7,0) -> 10
B11: The calendar dates will then populate automatically, as shown here:
D13: Week | E13: Sunday
B14: Week Number, Auto Populates | C14: -> | D14: 1 | E14: =IF($D16="","",DAY($D16)) -> 4
E15: Add run / workout information here
B16: Auto Populates | C16: -> | D16: 45661
D17: -
B18: Auto Populates | C18: -> | D18: =IF(D16="","",D16+6) -> 45667
H19: <- Option to note mileage
B21: You then have the option to print out the calendar and write out your runs by hand, or you can type your training plan into the spreadsheet, and then print. Note that if you type your training plan in the Season View tab, it will automatically populate the Weeks 1-6, Weeks 7-12, and Weeks 13-18 tabs for printing.
B24: To print your training calendar: 1. If your training plan is less than 18 weeks, delete the extra rows in the Season View tab and print view tabs, respectively. (If more than 18 weeks, additional rows can be copied and pasted - the formulas will carry down.) 2. Select the Weeks 1-6, Weeks 7-12, and Weeks 13-18 tabs by holding ctrl and clicking them. 3. Open the print dialog. Make sure narrow margins and print selection are selected. Then, print.

Sheet Season_View
B1: Training Plan - Season View
B2: Name: | D2: [Runner Name] | U2: #VALUE!
B3: Begin Date: | D3: [Date]
B4: Target Race: | D4: [Date] | E4: [Race Name]
B5: # of Weeks: | D5: =ROUNDUP((D4-D3)/7,0) -> #VALUE!
B7: Week | C7: Sunday | F7: Monday | I7: Tuesday | L7: Wednesday | O7: Thursday | R7: Friday | U7: Saturday | X7: Notes
B8: 1 | C8: =IF($B10="","",DAY($B10)) | F8: =IF($B10="","",DAY($B10+1)) | I8: =IF($B10="","",DAY($B10+2)) | L8: =IF($B10="","",DAY($B10+3)) | O8: =IF($B10="","",DAY($B10+4)) | R8: =IF($B10="","",DAY($B10+5)) | U8: =IF($B10="","",DAY($B10+6))
B10: =IF($D$3="[Date]","",D3)
B11: -
B12: =IF(B10="","",B10+6)
X13: Total: | Z13: =IF(SUM(E13,H13,K13,N13,Q13,T13,W13)=0,"",ROUND(SUM(E13,H13,K13,N13,Q13,T13,W13),1))
B14: =B8+1 -> 2 | C14: =IF($B16="","",DAY($B16)) | F14: =IF($B16="","",DAY($B16+1)) | I14: =IF($B16="","",DAY($B16+2)) | L14: =IF($B16="","",DAY($B16+3)) | O14: =IF($B16="","",DAY($B16+4)) | R14: =IF($B16="","",DAY($B16+5)) | U14: =IF($B16="","",DAY($B16+6))
B16: =IF($D$3="[Date]","",B10+7)
B17: -
B18: =IF(B16="","",B16+6)
X19: Total: | Z19: =IF(SUM(E19,H19,K19,N19,Q19,T19,W19)=0,"",ROUND(SUM(E19,H19,K19,N19,Q19,T19,W19),1))
B20: =B14+1 -> 3 | C20: =IF($B22="","",DAY($B22)) | F20: =IF($B22="","",DAY($B22+1)) | I20: =IF($B22="","",DAY($B22+2)) | L20: =IF($B22="","",DAY($B22+3)) | O20: =IF($B22="","",DAY($B22+4)) | R20: =IF($B22="","",DAY($B22+5)) | U20: =IF($B22="","",DAY($B22+6))
B22: =IF($D$3="[Date]","",B16+7)
B23: -
B24: =IF(B22="","",B22+6)
X25: Total: | Z25: =IF(SUM(E25,H25,K25,N25,Q25,T25,W25)=0,"",ROUND(SUM(E25,H25,K25,N25,Q25,T25,W25),1))
B26: =B20+1 -> 4 | C26: =IF($B28="","",DAY($B28)) | F26: =IF($B28="","",DAY($B28+1)) | I26: =IF($B28="","",DAY($B28+2)) | L26: =IF($B28="","",DAY($B28+3)) | O26: =IF($B28="","",DAY($B28+4)) | R26: =IF($B28="","",DAY($B28+5)) | U26: =IF($B28="","",DAY($B28+6))
B28: =IF($D$3="[Date]","",B22+7)
B29: -
B30: =IF(B28="","",B28+6)
X31: Total: | Z31: =IF(SUM(E31,H31,K31,N31,Q31,T31,W31)=0,"",ROUND(SUM(E31,H31,K31,N31,Q31,T31,W31),1))
B32: =B26+1 -> 5 | C32: =IF($B34="","",DAY($B34)) | F32: =IF($B34="","",DAY($B34+1)) | I32: =IF($B34="","",DAY($B34+2)) | L32: =IF($B34="","",DAY($B34+3)) | O32: =IF($B34="","",DAY($B34+4)) | R32: =IF($B34="","",DAY($B34+5)) | U32: =IF($B34="","",DAY($B34+6))
B34: =IF($D$3="[Date]","",B28+7)
B35: -
B36: =IF(B34="","",B34+6)
X37: Total: | Z37: =IF(SUM(E37,H37,K37,N37,Q37,T37,W37)=0,"",ROUND(SUM(E37,H37,K37,N37,Q37,T37,W37),1))
B38: =B32+1 -> 6 | C38: =IF($B40="","",DAY($B40)) | F38: =IF($B40="","",DAY($B40+1)) | I38: =IF($B40="","",DAY($B40+2)) | L38: =IF($B40="","",DAY($B40+3)) | O38: =IF($B40="","",DAY($B40+4)) | R38: =IF($B40="","",DAY($B40+5)) | U38: =IF($B40="","",DAY($B40+6))
B40: =IF($D$3="[Date]","",B34+7)
B41: -
B42: =IF(B40="","",B40+6)
X43: Total: | Z43: =IF(SUM(E43,H43,K43,N43,Q43,T43,W43)=0,"",ROUND(SUM(E43,H43,K43,N43,Q43,T43,W43),1))
B44: =B38+1 -> 7 | C44: =IF($B46="","",DAY($B46)) | F44: =IF($B46="","",DAY($B46+1)) | I44: =IF($B46="","",DAY($B46+2)) | L44: =IF($B46="","",DAY($B46+3)) | O44: =IF($B46="","",DAY($B46+4)) | R44: =IF($B46="","",DAY($B46+5)) | U44: =IF($B46="","",DAY($B46+6))
B46: =IF($D$3="[Date]","",B40+7)
B47: -
B48: =IF(B46="","",B46+6)
...

Sheet Weeks 1-6 (To Print)
B1: Training Plan - Weeks 1-6
B2: Name: | D2: =Season_View!D2 -> [Runner Name] | T2: #VALUE!
B3: Begin Date: | D3: =Season_View!D3 -> [Date]
B4: Target Race: | D4: =Season_View!D4 -> [Date] | E4: =Season_View!E4 -> [Race Name]
B6: Week | C6: Sunday | F6: Monday | I6: Tuesday | L6: Wednesday | O6: Thursday | R6: Friday | U6: Saturday | X6: Notes
B7: 1 | C7: =IF($B9="","",DAY($B9)) | F7: =IF($B9="","",DAY($B9+1)) | I7: =IF($B9="","",DAY($B9+2)) | L7: =IF($B9="","",DAY($B9+3)) | O7: =IF($B9="","",DAY($B9+4)) | R7: =IF($B9="","",DAY($B9+5)) | U7: =IF($B9="","",DAY($B9+6))
B9: =IF($D$3="[Date]","",D3)
B10: -
B11: =IF(B9="","",B9+6)
X12: Total: | Z12: =IF(SUM(E12,H12,K12,N12,Q12,T12,W12)=0,"",ROUND(SUM(E12,H12,K12,N12,Q12,T12,W12),1))
B13: =B7+1 -> 2 | C13: =IF($B15="","",DAY($B15)) | F13: =IF($B15="","",DAY($B15+1)) | I13: =IF($B15="","",DAY($B15+2)) | L13: =IF($B15="","",DAY($B15+3)) | O13: =IF($B15="","",DAY($B15+4)) | R13: =IF($B15="","",DAY($B15+5)) | U13: =IF($B15="","",DAY($B15+6))
B15: =IF($D$3="[Date]","",B9+7)
B16: -
B17: =IF(B15="","",B15+6)
X18: Total: | Z18: =IF(SUM(E18,H18,K18,N18,Q18,T18,W18)=0,"",ROUND(SUM(E18,H18,K18,N18,Q18,T18,W18),1))
B19: =B13+1 -> 3 | C19: =IF($B21="","",DAY($B21)) | F19: =IF($B21="","",DAY($B21+1)) | I19: =IF($B21="","",DAY($B21+2)) | L19: =IF($B21="","",DAY($B21+3)) | O19: =IF($B21="","",DAY($B21+4)) | R19: =IF($B21="","",DAY($B21+5)) | U19: =IF($B21="","",DAY($B21+6))
B21: =IF($D$3="[Date]","",B15+7)
B22: -
B23: =IF(B21="","",B21+6)
X24: Total: | Z24: =IF(SUM(E24,H24,K24,N24,Q24,T24,W24)=0,"",ROUND(SUM(E24,H24,K24,N24,Q24,T24,W24),1))
B25: =B19+1 -> 4 | C25: =IF($B27="","",DAY($B27)) | F25: =IF($B27="","",DAY($B27+1)) | I25: =IF($B27="","",DAY($B27+2)) | L25: =IF($B27="","",DAY($B27+3)) | O25: =IF($B27="","",DAY($B27+4)) | R25: =IF($B27="","",DAY($B27+5)) | U25: =IF($B27="","",DAY($B27+6))
B27: =IF($D$3="[Date]","",B21+7)
B28: -
B29: =IF(B27="","",B27+6)
X30: Total: | Z30: =IF(SUM(E30,H30,K30,N30,Q30,T30,W30)=0,"",ROUND(SUM(E30,H30,K30,N30,Q30,T30,W30),1))
B31: =B25+1 -> 5 | C31: =IF($B33="","",DAY($B33)) | F31: =IF($B33="","",DAY($B33+1)) | I31: =IF($B33="","",DAY($B33+2)) | L31: =IF($B33="","",DAY($B33+3)) | O31: =IF($B33="","",DAY($B33+4)) | R31: =IF($B33="","",DAY($B33+5)) | U31: =IF($B33="","",DAY($B33+6))
B33: =IF($D$3="[Date]","",B27+7)
B34: -
B35: =IF(B33="","",B33+6)
X36: Total: | Z36: =IF(SUM(E36,H36,K36,N36,Q36,T36,W36)=0,"",ROUND(SUM(E36,H36,K36,N36,Q36,T36,W36),1))
B37: =B31+1 -> 6 | C37: =IF($B39="","",DAY($B39)) | F37: =IF($B39="","",DAY($B39+1)) | I37: =IF($B39="","",DAY($B39+2)) | L37: =IF($B39="","",DAY($B39+3)) | O37: =IF($B39="","",DAY($B39+4)) | R37: =IF($B39="","",DAY($B39+5)) | U37: =IF($B39="","",DAY($B39+6))
B39: =IF($D$3="[Date]","",B33+7)
B40: -
B41: =IF(B39="","",B39+6)
X42: Total: | Z42: =IF(SUM(E42,H42,K42,N42,Q42,T42,W42)=0,"",ROUND(SUM(E42,H42,K42,N42,Q42,T42,W42),1))

Sheet Weeks 7-12
B1: Training Plan - Weeks 7-12
B2: Name: | D2: =Season_View!D2 -> [Runner Name] | T2: #VALUE!
B3: Begin Date: | D3: =Season_View!D3 -> [Date]
B4: Target Race: | D4: =Season_View!D4 -> [Date] | E4: =Season_View!E4 -> [Race Name]
B6: Week | C6: Sunday | F6: Monday | I6: Tuesday | L6: Wednesday | O6: Thursday | R6: Friday | U6: Saturday | X6: Notes
B7: 7 | C7: =IF($B9="","",DAY($B9)) | F7: =IF($B9="","",DAY($B9+1)) | I7: =IF($B9="","",DAY($B9+2)) | L7: =IF($B9="","",DAY($B9+3)) | O7: =IF($B9="","",DAY($B9+4)) | R7: =IF($B9="","",DAY($B9+5)) | U7: =IF($B9="","",DAY($B9+6))
B9: =IF($D$3="[Date]","",D3+42)
B10: -
B11: =IF(B9="","",B9+6)
X12: Total: | Z12: =IF(SUM(E12,H12,K12,N12,Q12,T12,W12)=0,"",ROUND(SUM(E12,H12,K12,N12,Q12,T12,W12),1))
B13: =B7+1 -> 8 | C13: =IF($B15="","",DAY($B15)) | F13: =IF($B15="","",DAY($B15+1)) | I13: =IF($B15="","",DAY($B15+2)) | L13: =IF($B15="","",DAY($B15+3)) | O13: =IF($B15="","",DAY($B15+4)) | R13: =IF($B15="","",DAY($B15+5)) | U13: =IF($B15="","",DAY($B15+6))
B15: =IF($D$3="[Date]","",B9+7)
B16: -
B17: =IF(B15="","",B15+6)
X18: Total: | Z18: =IF(SUM(E18,H18,K18,N18,Q18,T18,W18)=0,"",ROUND(SUM(E18,H18,K18,N18,Q18,T18,W18),1))
B19: =B13+1 -> 9 | C19: =IF($B21="","",DAY($B21)) | F19: =IF($B21="","",DAY($B21+1)) | I19: =IF($B21="","",DAY($B21+2)) | L19: =IF($B21="","",DAY($B21+3)) | O19: =IF($B21="","",DAY($B21+4)) | R19: =IF($B21="","",DAY($B21+5)) | U19: =IF($B21="","",DAY($B21+6))
B21: =IF($D$3="[Date]","",B15+7)
B22: -
B23: =IF(B21="","",B21+6)
X24: Total: | Z24: =IF(SUM(E24,H24,K24,N24,Q24,T24,W24)=0,"",ROUND(SUM(E24,H24,K24,N24,Q24,T24,W24),1))
B25: =B19+1 -> 10 | C25: =IF($B27="","",DAY($B27)) | F25: =IF($B27="","",DAY($B27+1)) | I25: =IF($B27="","",DAY($B27+2)) | L25: =IF($B27="","",DAY($B27+3)) | O25: =IF($B27="","",DAY($B27+4)) | R25: =IF($B27="","",DAY($B27+5)) | U25: =IF($B27="","",DAY($B27+6))
B27: =IF($D$3="[Date]","",B21+7)
B28: -
B29: =IF(B27="","",B27+6)
X30: Total: | Z30: =IF(SUM(E30,H30,K30,N30,Q30,T30,W30)=0,"",ROUND(SUM(E30,H30,K30,N30,Q30,T30,W30),1))
B31: =B25+1 -> 11 | C31: =IF($B33="","",DAY($B33)) | F31: =IF($B33="","",DAY($B33+1)) | I31: =IF($B33="","",DAY($B33+2)) | L31: =IF($B33="","",DAY($B33+3)) | O31: =IF($B33="","",DAY($B33+4)) | R31: =IF($B33="","",DAY($B33+5)) | U31: =IF($B33="","",DAY($B33+6))
B33: =IF($D$3="[Date]","",B27+7)
B34: -
B35: =IF(B33="","",B33+6)
X36: Total: | Z36: =IF(SUM(E36,H36,K36,N36,Q36,T36,W36)=0,"",ROUND(SUM(E36,H36,K36,N36,Q36,T36,W36),1))
B37: =B31+1 -> 12 | C37: =IF($B39="","",DAY($B39)) | F37: =IF($B39="","",DAY($B39+1)) | I37: =IF($B39="","",DAY($B39+2)) | L37: =IF($B39="","",DAY($B39+3)) | O37: =IF($B39="","",DAY($B39+4)) | R37: =IF($B39="","",DAY($B39+5)) | U37: =IF($B39="","",DAY($B39+6))
B39: =IF($D$3="[Date]","",B33+7)
B40: -
B41: =IF(B39="","",B39+6)
X42: Total: | Z42: =IF(SUM(E42,H42,K42,N42,Q42,T42,W42)=0,"",ROUND(SUM(E42,H42,K42,N42,Q42,T42,W42),1))

Sheet Weeks 13-18
B1: Training Plan - Weeks 13-18
B2: Name: | D2: =Season_View!D2 -> [Runner Name] | T2: #VALUE!
B3: Begin Date: | D3: =Season_View!D3 -> [Date]
B4: Target Race: | D4: =Season_View!D4 -> [Date] | E4: =Season_View!E4 -> [Race Name]
B6: Week | C6: Sunday | F6: Monday | I6: Tuesday | L6: Wednesday | O6: Thursday | R6: Friday | U6: Saturday | X6: Notes
B7: 13 | C7: =IF($B9="","",DAY($B9)) | F7: =IF($B9="","",DAY($B9+1)) | I7: =IF($B9="","",DAY($B9+2)) | L7: =IF($B9="","",DAY($B9+3)) | O7: =IF($B9="","",DAY($B9+4)) | R7: =IF($B9="","",DAY($B9+5)) | U7: =IF($B9="","",DAY($B9+6))
B9: =IF($D$3="[Date]","",D3+42)
B10: -
B11: =IF(B9="","",B9+6)
X12: Total: | Z12: =IF(SUM(E12,H12,K12,N12,Q12,T12,W12)=0,"",ROUND(SUM(E12,H12,K12,N12,Q12,T12,W12),1))
B13: =B7+1 -> 14 | C13: =IF($B15="","",DAY($B15)) | F13: =IF($B15="","",DAY($B15+1)) | I13: =IF($B15="","",DAY($B15+2)) | L13: =IF($B15="","",DAY($B15+3)) | O13: =IF($B15="","",DAY($B15+4)) | R13: =IF($B15="","",DAY($B15+5)) | U13: =IF($B15="","",DAY($B15+6))
B15: =IF($D$3="[Date]","",B9+7)
B16: -
B17: =IF(B15="","",B15+6)
X18: Total: | Z18: =IF(SUM(E18,H18,K18,N18,Q18,T18,W18)=0,"",ROUND(SUM(E18,H18,K18,N18,Q18,T18,W18),1))
B19: =B13+1 -> 15 | C19: =IF($B21="","",DAY($B21)) | F19: =IF($B21="","",DAY($B21+1)) | I19: =IF($B21="","",DAY($B21+2)) | L19: =IF($B21="","",DAY($B21+3)) | O19: =IF($B21="","",DAY($B21+4)) | R19: =IF($B21="","",DAY($B21+5)) | U19: =IF($B21="","",DAY($B21+6))
B21: =IF($D$3="[Date]","",B15+7)
B22: -
B23: =IF(B21="","",B21+6)
X24: Total: | Z24: =IF(SUM(E24,H24,K24,N24,Q24,T24,W24)=0,"",ROUND(SUM(E24,H24,K24,N24,Q24,T24,W24),1))
B25: =B19+1 -> 16 | C25: =IF($B27="","",DAY($B27)) | F25: =IF($B27="","",DAY($B27+1)) | I25: =IF($B27="","",DAY($B27+2)) | L25: =IF($B27="","",DAY($B27+3)) | O25: =IF($B27="","",DAY($B27+4)) | R25: =IF($B27="","",DAY($B27+5)) | U25: =IF($B27="","",DAY($B27+6))
B27: =IF($D$3="[Date]","",B21+7)
B28: -
B29: =IF(B27="","",B27+6)
X30: Total: | Z30: =IF(SUM(E30,H30,K30,N30,Q30,T30,W30)=0,"",ROUND(SUM(E30,H30,K30,N30,Q30,T30,W30),1))
B31: =B25+1 -> 17 | C31: =IF($B33="","",DAY($B33)) | F31: =IF($B33="","",DAY($B33+1)) | I31: =IF($B33="","",DAY($B33+2)) | L31: =IF($B33="","",DAY($B33+3)) | O31: =IF($B33="","",DAY($B33+4)) | R31: =IF($B33="","",DAY($B33+5)) | U31: =IF($B33="","",DAY($B33+6))
B33: =IF($D$3="[Date]","",B27+7)
B34: -
B35: =IF(B33="","",B33+6)
X36: Total: | Z36: =IF(SUM(E36,H36,K36,N36,Q36,T36,W36)=0,"",ROUND(SUM(E36,H36,K36,N36,Q36,T36,W36),1))
B37: =B31+1 -> 18 | C37: =IF($B39="","",DAY($B39)) | F37: =IF($B39="","",DAY($B39+1)) | I37: =IF($B39="","",DAY($B39+2)) | L37: =IF($B39="","",DAY($B39+3)) | O37: =IF($B39="","",DAY($B39+4)) | R37: =IF($B39="","",DAY($B39+5)) | U37: =IF($B39="","",DAY($B39+6))
B39: =IF($D$3="[Date]","",B33+7)
B40: -
B41: =IF(B39="","",B39+6)
X42: Total: | Z42: =IF(SUM(E42,H42,K42,N42,Q42,T42,W42)=0,"",ROUND(SUM(E42,H42,K42,N42,Q42,T42,W42),1))
